BEGIN:VCALENDAR
VERSION:2.0
PRODID:-//Asset Management Canada - ECPv6.0.7.1//NONSGML v1.0//EN
CALSCALE:GREGORIAN
METHOD:PUBLISH
X-WR-CALNAME:Asset Management Canada
X-ORIGINAL-URL:https://assetmanagementcanada.cobbox.dev
X-WR-CALDESC:Events for Asset Management Canada
REFRESH-INTERVAL;VALUE=DURATION:PT1H
X-Robots-Tag:noindex
X-PUBLISHED-TTL:PT1H
BEGIN:VTIMEZONE
TZID:America/Toronto
BEGIN:DAYLIGHT
TZOFFSETFROM:-0500
TZOFFSETTO:-0400
TZNAME:EDT
DTSTART:20180311T070000
END:DAYLIGHT
BEGIN:STANDARD
TZOFFSETFROM:-0400
TZOFFSETTO:-0500
TZNAME:EST
DTSTART:20181104T060000
END:STANDARD
TZID:America/Vancouver
BEGIN:DAYLIGHT
TZOFFSETFROM:-0800
TZOFFSETTO:-0700
TZNAME:PDT
DTSTART:20180311T100000
END:DAYLIGHT
BEGIN:STANDARD
TZOFFSETFROM:-0700
TZOFFSETTO:-0800
TZNAME:PST
DTSTART:20181104T090000
END:STANDARD
END:VTIMEZONE
BEGIN:VEVENT
DTSTART;TZID=America/Toronto:20181119T080000
DTEND;TZID=America/Toronto:20181121T170000
DTSTAMP:20260424T042823
CREATED:20180516T172711Z
LAST-MODIFIED:20180516T172711Z
UID:692-1542614400-1542819600@assetmanagementcanada.cobbox.dev
SUMMARY:The Challenges of Urban Engineering:  Multidisciplinary\, Social Acceptability and Innovation
DESCRIPTION:Join us for CERIU’s 24th Annual INFRA Congress in Quebec City.  For additional information\, in both french and english\, including the ‘Call for Speakers’\, please click here \n \n 
URL:https://assetmanagementcanada.cobbox.dev/event/the-challenges-of-urban-engineering-multidisciplinary-social-acceptability-and-innovation/
LOCATION:Quebec City Convention Centre\, 1000 Boulevard René-Lévesque E\, \, QC\, Québec\, Quebec\, G1A 1B4\, Canada
END:VEVENT
BEGIN:VEVENT
DTSTART;TZID=America/Vancouver:20180926T080000
DTEND;TZID=America/Vancouver:20180927T170000
DTSTAMP:20260424T042823
CREATED:20180405T235535Z
LAST-MODIFIED:20180515T025239Z
UID:299-1537948800-1538067600@assetmanagementcanada.cobbox.dev
SUMMARY:2018 Asset Management BC Conference
DESCRIPTION:Competing Priorities in a Changing World\n“Join us for two full days of knowledge transfer and participation sessions for you on integrated asset management in BC” with keynote speaker\, Bob Sandford\, the EPCOR Chair for Water and Climate Security at the United Nations University Institute for Water\, Environment and Health. He is the co-author of the UN Water in the World We Want report on post-2015 global sustainable development goals relating to water. Bob is a Fellow of the Centre for Hydrology at the University of Saskatchewan and a Fellow of the Biogeoscience Institute at the University of Calgary. \nIn addition to many other books\, Bob is the author of several high-profile works on water\, including Cold Matters: The State & Fate of Canada’s Snow and Ice\, and Saving Lake Winnipeg. Bob co-authored Flood Forecast: Climate Risk & Resilience in Canada with Kerry Freek.
URL:https://assetmanagementcanada.cobbox.dev/event/2018-asset-management-bc-conference/
LOCATION:Raddison Vancouver Airport\, 8181 Cambie Road\, Richmond\, British Columbia\, V6X 3X9\, Canada
ORGANIZER;CN="Asset%20Management%20BC":MAILTO:info@assetmanagementbc.ca
END:VEVENT
BEGIN:VEVENT
DTSTART;TZID=America/Vancouver:20180525T090000
DTEND;TZID=America/Vancouver:20180525T120000
DTSTAMP:20260424T042823
CREATED:20180515T025527Z
LAST-MODIFIED:20180515T025527Z
UID:646-1527238800-1527249600@assetmanagementcanada.cobbox.dev
SUMMARY:Asset Management BC Partnership Committee Meeting
DESCRIPTION:
URL:https://assetmanagementcanada.cobbox.dev/event/asset-management-bc-partnership-committee-meeting/
LOCATION:UBCM Victoria Offices\, 525 Government Street\, Victoria\, British Columbia\, Canada
ORGANIZER;CN="Asset%20Management%20BC":MAILTO:info@assetmanagementbc.ca
END:VEVENT
BEGIN:VEVENT
DTSTART;TZID=America/Toronto:20180515T080000
DTEND;TZID=America/Toronto:20180515T170000
DTSTAMP:20260424T042823
CREATED:20180515T025923Z
LAST-MODIFIED:20180515T025923Z
UID:650-1526371200-1526403600@assetmanagementcanada.cobbox.dev
SUMMARY:Asset Management Canada Meeting
DESCRIPTION:
URL:https://assetmanagementcanada.cobbox.dev/event/asset-management-canada-meeting/
LOCATION:CNAM Conference – Fourteen\, Windsor\, Ontario\, Canada
END:VEVENT
BEGIN:VEVENT
DTSTART;VALUE=DATE:20180514
DTEND;VALUE=DATE:20180518
DTSTAMP:20260424T042823
CREATED:20180515T030327Z
LAST-MODIFIED:20180515T030327Z
UID:655-1526256000-1526601599@assetmanagementcanada.cobbox.dev
SUMMARY:2018 CNAM Conference
DESCRIPTION:Join us in Windsor next May as we look at “Bridging the Gap” in infrastructure finance\, engineering and public policy that sometimes exists within the asset management profession in Canada\, and around the world. Now in it’s 12th year\, the CNAM Conference and Tradeshow will continue to deliver leading edge professional development\, idea sharing\, workshops and fun networking opportunities with your peers and new players in government\, academia and industry. CNAM is growing and poised to help you and your organization connect to the future of asset management\, so mark your calendars for May 14-17\, 2018 and we’ll see you then!
URL:https://assetmanagementcanada.cobbox.dev/event/2018-cnam-conference/
LOCATION:Quebec
END:VEVENT
END:VCALENDAR